BEGIN:VCALENDAR
VERSION:2.0
PRODID:-//https://gulfstreamregion-pca.org///NONSGML kigkonsult.se iCalcreator 2.10.15//
METHOD:PUBLISH
BEGIN:VEVENT
UID:20260423T171135UTC-6454H6kjjk@https://gulfstreamregion-pca.org/
DTSTAMP:20260423T171135Z
DESCRIPTION:Hosted by Rich &amp\; Diane Tillotson\nRSVP: UsCarrera@gmail.co
 m&nbsp\; https://gulfstreamregion-pca.org/events/rally/event/56-sebring-po
 rsches-and-pancakes
DTSTART:20241207T140000Z
DTEND:20241207T160000Z
LOCATION:Oscar's Family Restaurant (267 US Highway 27 N\, Sebring\, Florida
 \, 33870)
SUMMARY:Sebring Porsches and Pancakes
URL:https://gulfstreamregion-pca.org/events/rally/event/56-sebring-porsches
 -and-pancakes
END:VEVENT
END:VCALENDAR
