BEGIN:VCALENDAR
VERSION:2.0
PRODID:-//https://gulfstreamregion-pca.org///NONSGML kigkonsult.se iCalcreator 2.10.15//
METHOD:PUBLISH
BEGIN:VEVENT
UID:20260419T132245UTC-7530sU6AOg@https://gulfstreamregion-pca.org/
DTSTAMP:20260419T132245Z
DESCRIPTION:Hosted by Bob Mahoney\nRSVP: Rudman@gmail.com&nbsp\; https://gu
 lfstreamregion-pca.org/events/rally/event/55-fort-pierce-porsches-and-panc
 akes
DTSTART:20241207T140000Z
DTEND:20241207T160000Z
LOCATION:Captain's Galley (825 N Indian River Dr\, Fort Pierce\, Florida\, 
 34950)
SUMMARY:Fort Pierce Porsches and Pancakes
URL:https://gulfstreamregion-pca.org/events/rally/event/55-fort-pierce-pors
 ches-and-pancakes
END:VEVENT
END:VCALENDAR
