BEGIN:VCALENDAR
VERSION:2.0
PRODID:-//https://gulfstreamregion-pca.org///NONSGML kigkonsult.se iCalcreator 2.10.15//
METHOD:PUBLISH
BEGIN:VEVENT
UID:20260422T084353UTC-3487p4sNKT@https://gulfstreamregion-pca.org/
DTSTAMP:20260422T084353Z
DESCRIPTION:​NEW LOCATION for an evening of socializing every third Thursda
 y of the month. The restaurant has a wonderfully casual atmosphere with gr
 eat food and service. Your hosts are Dale and Karen Poston.\nhttps://ocean
 republicbrewing.com/ https://gulfstreamregion-pca.org/events/rally/event/3
 72-thursday-social-stuart
DTSTART:20261119T223000Z
DTEND:20261119T233000Z
LOCATION:Ocean Republic Brewing (1630 SE Federal Hwy\, Stuart\, Florida\, 3
 4994)
SUMMARY:Thursday Social - Stuart
URL:https://gulfstreamregion-pca.org/events/rally/event/372-thursday-social
 -stuart
END:VEVENT
END:VCALENDAR
