BEGIN:VCALENDAR
VERSION:2.0
PRODID:-//https://gulfstreamregion-pca.org///NONSGML kigkonsult.se iCalcreator 2.10.15//
METHOD:PUBLISH
BEGIN:VEVENT
UID:20260423T155827UTC-5016zDRVeT@https://gulfstreamregion-pca.org/
DTSTAMP:20260423T155827Z
DESCRIPTION:Hosted by Rich &amp\; Diane Tillotson\nRSVP: UsCarrera@gmail.co
 m&nbsp\; https://gulfstreamregion-pca.org/events/rally/event/358-sebring-p
 orsches-and-pancakes
DTSTART:20270904T130000Z
DTEND:20270904T150000Z
LOCATION:Oscar's Family Restaurant (267 US Highway 27 N\, Sebring\, Florida
 \, 33870)
SUMMARY:Sebring Porsches and Pancakes
URL:https://gulfstreamregion-pca.org/events/rally/event/358-sebring-porsche
 s-and-pancakes
END:VEVENT
END:VCALENDAR
