BEGIN:VCALENDAR
VERSION:2.0
PRODID:-//https://gulfstreamregion-pca.org///NONSGML kigkonsult.se iCalcreator 2.10.15//
METHOD:PUBLISH
BEGIN:VEVENT
UID:20260423T155844UTC-7378OkBaa2@https://gulfstreamregion-pca.org/
DTSTAMP:20260423T155844Z
DESCRIPTION:Hosted by Rich &amp\; Diane Tillotson\nRSVP: UsCarrera@gmail.co
 m&nbsp\; https://gulfstreamregion-pca.org/events/rally/event/343-sebring-p
 orsches-and-pancakes
DTSTART:20260606T130000Z
DTEND:20260606T150000Z
LOCATION:Oscar's Family Restaurant (267 US Highway 27 N\, Sebring\, Florida
 \, 33870)
SUMMARY:Sebring Porsches and Pancakes
URL:https://gulfstreamregion-pca.org/events/rally/event/343-sebring-porsche
 s-and-pancakes
END:VEVENT
END:VCALENDAR
