BEGIN:VCALENDAR
VERSION:2.0
PRODID:-//https://gulfstreamregion-pca.org///NONSGML kigkonsult.se iCalcreator 2.10.15//
METHOD:PUBLISH
BEGIN:VEVENT
UID:20260419T132323UTC-0422S4uDbF@https://gulfstreamregion-pca.org/
DTSTAMP:20260419T132323Z
DESCRIPTION:Hosted by Bob Mahoney\nRSVP: Rudman@gmail.com&nbsp\; https://gu
 lfstreamregion-pca.org/events/rally/event/322-fort-pierce-porsches-and-pan
 cakes
DTSTART:20260905T130000Z
DTEND:20260905T150000Z
LOCATION:Captain's Galley (825 N Indian River Dr\, Fort Pierce\, Florida\, 
 34950)
SUMMARY:Fort Pierce Porsches and Pancakes
URL:https://gulfstreamregion-pca.org/events/rally/event/322-fort-pierce-por
 sches-and-pancakes
END:VEVENT
END:VCALENDAR
