BEGIN:VCALENDAR
VERSION:2.0
PRODID:-//https://gulfstreamregion-pca.org///NONSGML kigkonsult.se iCalcreator 2.10.15//
METHOD:PUBLISH
BEGIN:VEVENT
UID:20260420T015312UTC-6557I4IDaG@https://gulfstreamregion-pca.org/
DTSTAMP:20260420T015312Z
DESCRIPTION:\n11701 Lake Victoria Gardens #4106 Palm Beach Gardens\, FL 334
 10\n&nbsp\; https://gulfstreamregion-pca.org/calendar/event/48-thursday-so
 cial-north-palm-beach
DTSTART:20241122T000000Z
DTEND:20241122T010000Z
LOCATION: ()
SUMMARY:Thursday Social - North Palm Beach
URL:https://gulfstreamregion-pca.org/calendar/event/48-thursday-social-nort
 h-palm-beach
END:VEVENT
END:VCALENDAR
