BEGIN:VCALENDAR
VERSION:2.0
PRODID:-//https://gulfstreamregion-pca.org///NONSGML kigkonsult.se iCalcreator 2.10.15//
METHOD:PUBLISH
BEGIN:VEVENT
UID:20260419T230603UTC-695349GNUt@https://gulfstreamregion-pca.org/
DTSTAMP:20260419T230603Z
DESCRIPTION:Hosted by Bill &amp\; Linda Drucker\nRSVP: Billd524@comcast.net
 &nbsp\;\nhttps://johngs.com/\nNEW LOCATION\n264 S. Ocean Blvd.\nManalapan\
 , FL 33462 https://gulfstreamregion-pca.org/calendar/event/53-manalapan-po
 rsches-pancakes-new-location
DTSTART:20241207T140000Z
DTEND:20241207T160000Z
LOCATION:John G's Restaurant (264 S Ocean Blvd\, Lantana\, Florida\, 33462)
SUMMARY:Manalapan Porsches & Pancakes (NEW LOCATION)
URL:https://gulfstreamregion-pca.org/calendar/event/53-manalapan-porsches-p
 ancakes-new-location
END:VEVENT
BEGIN:VEVENT
UID:20260419T230603UTC-6956V6XLlf@https://gulfstreamregion-pca.org/
DTSTAMP:20260419T230603Z
DESCRIPTION:Hosted by Elaine Smith\nRSVP: Porsche@elainesmith.com&nbsp\; ht
 tps://gulfstreamregion-pca.org/calendar/event/54-palm-beach-porsches-panca
 kes
DTSTART:20241207T140000Z
DTEND:20241207T160000Z
LOCATION:Sant Ambroeus (340 Royal Poinciana Way\, Palm Beach\, Florida\, 33
 480)
SUMMARY:Palm Beach Porsches & Pancakes
URL:https://gulfstreamregion-pca.org/calendar/event/54-palm-beach-porsches-
 pancakes
END:VEVENT
BEGIN:VEVENT
UID:20260419T230603UTC-6957mVSNOr@https://gulfstreamregion-pca.org/
DTSTAMP:20260419T230603Z
DESCRIPTION:Hosted by Bob Mahoney\nRSVP: Rudman@gmail.com&nbsp\; https://gu
 lfstreamregion-pca.org/calendar/event/55-fort-pierce-porsches-and-pancakes
DTSTART:20241207T140000Z
DTEND:20241207T160000Z
LOCATION:Captain's Galley (825 N Indian River Dr\, Fort Pierce\, Florida\, 
 34950)
SUMMARY:Fort Pierce Porsches and Pancakes
URL:https://gulfstreamregion-pca.org/calendar/event/55-fort-pierce-porsches
 -and-pancakes
END:VEVENT
BEGIN:VEVENT
UID:20260419T230603UTC-6959dKsmRW@https://gulfstreamregion-pca.org/
DTSTAMP:20260419T230603Z
DESCRIPTION:Hosted by Rich &amp\; Diane Tillotson\nRSVP: UsCarrera@gmail.co
 m&nbsp\; https://gulfstreamregion-pca.org/calendar/event/56-sebring-porsch
 es-and-pancakes
DTSTART:20241207T140000Z
DTEND:20241207T160000Z
LOCATION:Oscar's Family Restaurant (267 US Highway 27 N\, Sebring\, Florida
 \, 33870)
SUMMARY:Sebring Porsches and Pancakes
URL:https://gulfstreamregion-pca.org/calendar/event/56-sebring-porsches-and
 -pancakes
END:VEVENT
BEGIN:VEVENT
UID:20260419T230603UTC-6960CxS79p@https://gulfstreamregion-pca.org/
DTSTAMP:20260419T230603Z
DESCRIPTION:Host: Sam Kinter\nrsvp: samuelkinter@hotmail.com https://gulfst
 reamregion-pca.org/calendar/event/57-stuart-porsches-and-pancakes
DTSTART:20241207T133000Z
DTEND:20241207T143000Z
LOCATION: City Diner of Stuart (2660 SE Federal Hwy.\, Stuart Florida 34994
 )
SUMMARY:Stuart Porsches and Pancakes
URL:https://gulfstreamregion-pca.org/calendar/event/57-stuart-porsches-and-
 pancakes
END:VEVENT
END:VCALENDAR
